BEGIN:VCALENDAR
VERSION:2.0
PRODID:-//Good Life Miami - ECPv6.11.0//NONSGML v1.0//EN
CALSCALE:GREGORIAN
METHOD:PUBLISH
X-WR-CALNAME:Good Life Miami
X-ORIGINAL-URL:https://goodlife.miami
X-WR-CALDESC:Events for Good Life Miami
REFRESH-INTERVAL;VALUE=DURATION:PT1H
X-Robots-Tag:noindex
X-PUBLISHED-TTL:PT1H
BEGIN:VTIMEZONE
TZID:America/New_York
BEGIN:DAYLIGHT
TZOFFSETFROM:-0500
TZOFFSETTO:-0400
TZNAME:EDT
DTSTART:20240310T070000
END:DAYLIGHT
BEGIN:STANDARD
TZOFFSETFROM:-0400
TZOFFSETTO:-0500
TZNAME:EST
DTSTART:20241103T060000
END:STANDARD
END:VTIMEZONE
BEGIN:VEVENT
DTSTART;TZID=America/New_York:20240323T120000
DTEND;TZID=America/New_York:20240323T120000
DTSTAMP:20260425T231836
CREATED:20240307T100041Z
LAST-MODIFIED:20240307T100041Z
UID:10000715-1711195200-1711195200@goodlife.miami
SUMMARY:Daer Dayclub Spring Break Party DJ Kaskade
DESCRIPTION:For More Information\, Guestlist fo Ladies\, and VIP Table Reservations contact Sergio 786-210-6327. Use Promocode “Goodlifemiami” for Discounted tickets | rsvp@goodlife.miami
URL:https://goodlife.miami/event/daer-dayclub-spring-break-party-dj-kaskade/
CATEGORIES:Hollywood
ATTACH;FMTTYPE=image/jpeg:https://goodlife.miami/wp-content/uploads/2024/03/WhatsApp-Image-2024-03-07-at-22.18.04.jpeg
END:VEVENT
BEGIN:VEVENT
DTSTART;TZID=America/New_York:20240323T120000
DTEND;TZID=America/New_York:20240324T040000
DTSTAMP:20260425T231836
CREATED:20240308T074200Z
LAST-MODIFIED:20240308T074200Z
UID:10000725-1711195200-1711252800@goodlife.miami
SUMMARY:Rooftop Pool Party Kick Off!
DESCRIPTION:Bambossa Records Showcase – Day Club 12:00PM – 8:00PM Night Club 10:00PM – 4:00AM. For More Information\, Guestlist for Ladies\, and VIP Table Reservations contact Sergio 786-210-6327. Use Promocode “Goodlifemiami” for Discounted tickets | rsvp@goodlife.miami | Bamboosa event at the Arlo for tickets: http://tixr.com/pr/LaFamilia/96109
URL:https://goodlife.miami/event/rooftop-pool-party-kick-off/
CATEGORIES:Miami
ATTACH;FMTTYPE=image/jpeg:https://goodlife.miami/wp-content/uploads/2024/03/square-1.jpg
END:VEVENT
BEGIN:VEVENT
DTSTART;TZID=America/New_York:20240323T220000
DTEND;TZID=America/New_York:20240323T220000
DTSTAMP:20260425T231836
CREATED:20240307T110823Z
LAST-MODIFIED:20240307T110823Z
UID:10000723-1711231200-1711231200@goodlife.miami
SUMMARY:Daer Nightclub Spring Break Party Galantis
DESCRIPTION:For More Information\, Guestlist fo Ladies\, and VIP Table Reservations contact Sergio 786-210-6327. Use Promocode “Goodlifemiami” for Discounted tickets | rsvp@goodlife.miami
URL:https://goodlife.miami/event/daer-nightclub-spring-break-party-galantis/
CATEGORIES:Hollywood
ATTACH;FMTTYPE=image/jpeg:https://goodlife.miami/wp-content/uploads/2024/03/WhatsApp-Image-2024-03-07-at-22.18.00.jpeg
END:VEVENT
END:VCALENDAR