BEGIN:VCALENDAR
VERSION:2.0
PRODID:-//Good Life Miami - ECPv6.11.0//NONSGML v1.0//EN
CALSCALE:GREGORIAN
METHOD:PUBLISH
X-WR-CALNAME:Good Life Miami
X-ORIGINAL-URL:https://goodlife.miami
X-WR-CALDESC:Events for Good Life Miami
REFRESH-INTERVAL;VALUE=DURATION:PT1H
X-Robots-Tag:noindex
X-PUBLISHED-TTL:PT1H
BEGIN:VTIMEZONE
TZID:UTC
BEGIN:STANDARD
TZOFFSETFROM:+0000
TZOFFSETTO:+0000
TZNAME:UTC
DTSTART:20260101T000000
END:STANDARD
END:VTIMEZONE
BEGIN:VTIMEZONE
TZID:America/New_York
BEGIN:DAYLIGHT
TZOFFSETFROM:-0500
TZOFFSETTO:-0400
TZNAME:EDT
DTSTART:20260308T070000
END:DAYLIGHT
BEGIN:STANDARD
TZOFFSETFROM:-0400
TZOFFSETTO:-0500
TZNAME:EST
DTSTART:20261101T060000
END:STANDARD
END:VTIMEZONE
BEGIN:VEVENT
DTSTART;TZID=UTC:20260425T220000
DTEND;TZID=UTC:20260426T040000
DTSTAMP:20260426T030451
CREATED:20260403T204744Z
LAST-MODIFIED:20260403T204744Z
UID:10001604-1777154400-1777176000@goodlife.miami
SUMMARY:Saturday April 25th- Bonnie x Clyde at DAER Nightclub
DESCRIPTION:Let’s run it back this time at DAER Nightclub 🙌 @bonniexclyde partying w/ us on Saturday\, April 25th 🪐 \nFor more info\, tickets and tables DM @goodlifemiami or Text 786.210.6327 \nFor Tickets Visit: https://www.tixr.com/promoters/goodlifemiami
URL:https://goodlife.miami/event/saturday-april-25th-bonnie-x-clyde-at-daer-nightclub/
LOCATION:DAER South Forida\, 1 Lucky Street\, Hollywood\, FL\, 33314\, United States
CATEGORIES:DAER Nightclub
ATTACH;FMTTYPE=image/jpeg:https://goodlife.miami/wp-content/uploads/2026/04/04-25-26-NC-Bonnie-X-Clyde-Wide.jpg
ORGANIZER;CN="Sergio Goodlife":MAILTO:rsvp@goodlife.miami
END:VEVENT
BEGIN:VEVENT
DTSTART;TZID=America/New_York:20260426T120000
DTEND;TZID=America/New_York:20260426T180000
DTSTAMP:20260426T030451
CREATED:20241016T121221Z
LAST-MODIFIED:20241016T121221Z
UID:10000893-1777204800-1777226400@goodlife.miami
SUMMARY:This and Every Sunday\, Pool Party at DAER Dayclub\, inside the Hard Rock Hotel
DESCRIPTION:This and Every Sunday\, Pool Party at DAER Dayclub\, inside the Hard Rock Hotel\nOpen format sounds by Guest DJ’s every week\n \nFor More info\, VIP Table Reservations\, and Ladies Complimentary Guestlist\, Email us rsvp@goodlife.miami or contact miami promoter Sergio 786-210-6327.
URL:https://goodlife.miami/event/this-and-every-sunday-pool-party-at-daer-dayclub-inside-the-hard-rock-hotel/2026-04-26/
LOCATION:Dj Rico Sanchez Asi Viene el Sandwich
ATTACH;FMTTYPE=image/jpeg:https://goodlife.miami/wp-content/uploads/2024/10/Generic-Sundays-Goodlife.jpg
END:VEVENT
BEGIN:VEVENT
DTSTART;TZID=UTC:20260426T120000
DTEND;TZID=UTC:20260426T180000
DTSTAMP:20260426T030451
CREATED:20260424T150019Z
LAST-MODIFIED:20260424T153822Z
UID:10001613-1777204800-1777226400@goodlife.miami
SUMMARY:Boogie T | DAER Dayclub
DESCRIPTION:  \n  \n  \n  \nFor Guestlist\, Tickets and More Information Email: Sergio@Goodlifemiami.com or Txt 786-210-6327 //\nDAER Events – For Tickets Visit: https://www.tixr.com/promoters/goodlifemiami
URL:https://goodlife.miami/event/boogie-t-daer-dayclub/
LOCATION:DAER South Forida\, 1 Lucky Street\, Hollywood\, FL\, 33314\, United States
CATEGORIES:DAER Dayclub
ATTACH;FMTTYPE=image/jpeg:https://goodlife.miami/wp-content/uploads/2026/04/WhatsApp-Image-2026-04-24-at-10.54.57-AM.jpeg
END:VEVENT
BEGIN:VEVENT
DTSTART;TZID=UTC:20260426T120000
DTEND;TZID=UTC:20260426T200000
DTSTAMP:20260426T030451
CREATED:20260422T161310Z
LAST-MODIFIED:20260422T162232Z
UID:10001608-1777204800-1777233600@goodlife.miami
SUMMARY:Vanessa`s BDay party
DESCRIPTION:amazing birthday party for Vanessa is coming up at DEAR. For gest list DM us on social media or contact Sergio  7862106327 \n 
URL:https://goodlife.miami/event/vanessas-bday-party/
LOCATION:DAER South Forida\, 1 Lucky Street\, Hollywood\, FL\, 33314\, United States
CATEGORIES:DAER Dayclub
ATTACH;FMTTYPE=image/jpeg:https://goodlife.miami/wp-content/uploads/2026/04/Vane-Bday-at-DAER-04-26b.jpg
END:VEVENT
BEGIN:VEVENT
DTSTART;TZID=UTC:20260426T120000
DTEND;TZID=UTC:20260427T040000
DTSTAMP:20260426T030451
CREATED:20260317T233031Z
LAST-MODIFIED:20260317T233031Z
UID:10001599-1777204800-1777262400@goodlife.miami
SUMMARY:Sunday April 26th- Boogie T at DAER Dayclub
DESCRIPTION:Dubstep at Dayclub 🎸 w/ @mrboogiet making his #DAERDebut on Sunday\, April 26th for Bass Brunch 🌞 \nFor more info\, tickets and tables DM @goodlifemiami or Text 786.210.6327 \nFor Tickets Visit: https://www.tixr.com/promoters/goodlifemiami
URL:https://goodlife.miami/event/sunday-april-26th-boogie-t-at-daer-dayclub/
LOCATION:DAER South Forida\, 1 Lucky Street\, Hollywood\, FL\, 33314\, United States
CATEGORIES:DAER Dayclub
ATTACH;FMTTYPE=image/jpeg:https://goodlife.miami/wp-content/uploads/2026/03/04-26-26-DC-Boogie-T-Wide.jpg
ORGANIZER;CN="Sergio Goodlife":MAILTO:rsvp@goodlife.miami
END:VEVENT
END:VCALENDAR