BEGIN:VCALENDAR
VERSION:2.0
PRODID:-//Good Life Miami - ECPv6.11.0//NONSGML v1.0//EN
CALSCALE:GREGORIAN
METHOD:PUBLISH
X-ORIGINAL-URL:https://goodlife.miami
X-WR-CALDESC:Events for Good Life Miami
REFRESH-INTERVAL;VALUE=DURATION:PT1H
X-Robots-Tag:noindex
X-PUBLISHED-TTL:PT1H
BEGIN:VTIMEZONE
TZID:UTC
BEGIN:STANDARD
TZOFFSETFROM:+0000
TZOFFSETTO:+0000
TZNAME:UTC
DTSTART:20260101T000000
END:STANDARD
END:VTIMEZONE
BEGIN:VTIMEZONE
TZID:America/New_York
BEGIN:DAYLIGHT
TZOFFSETFROM:-0500
TZOFFSETTO:-0400
TZNAME:EDT
DTSTART:20260308T070000
END:DAYLIGHT
BEGIN:STANDARD
TZOFFSETFROM:-0400
TZOFFSETTO:-0500
TZNAME:EST
DTSTART:20261101T060000
END:STANDARD
END:VTIMEZONE
BEGIN:VEVENT
DTSTART;TZID=UTC:20260502T120000
DTEND;TZID=UTC:20260503T040000
DTSTAMP:20260426T021505
CREATED:20260414T152131Z
LAST-MODIFIED:20260414T152131Z
UID:10001605-1777723200-1777780800@goodlife.miami
SUMMARY:Saturday May 2nd - Alesso at DAER Dayclub
DESCRIPTION:DAER Dayclub is under control 🔥 as @alesso RETURNS on Saturday\, May 2nd for Race Week 🏎️ \nFor more info\, tickets and tables DM @goodlifemiami or Text 786.210.6327⁠ \nFor Tickets Visit: https://www.tixr.com/promoters/goodlifemiami
URL:https://goodlife.miami/event/saturday-may-2nd-alesso-at-daer-dayclub/
LOCATION:DAER South Forida\, 1 Lucky Street\, Hollywood\, FL\, 33314\, United States
CATEGORIES:DAER Dayclub
ATTACH;FMTTYPE=image/jpeg:https://goodlife.miami/wp-content/uploads/2026/04/05-02-26-DC-Alesso-Race-Week-Dayclub-Wide.jpg
ORGANIZER;CN="Sergio Goodlife":MAILTO:rsvp@goodlife.miami
END:VEVENT
BEGIN:VEVENT
DTSTART;TZID=UTC:20260502T220000
DTEND;TZID=UTC:20260503T030000
DTSTAMP:20260426T021505
CREATED:20260424T205042Z
LAST-MODIFIED:20260424T205043Z
UID:10001615-1777759200-1777777200@goodlife.miami
SUMMARY:Race Week Alex Sensation| Saturday May 2
DESCRIPTION:For Guestlist\, Tickets and More Information Email: Sergio@Goodlifemiami.com or Txt 786-210-6327 //\nDAER Events – For Tickets Visit: https://www.tixr.com/promoters/goodlifemiami
URL:https://goodlife.miami/event/race-week-alex-sensation-saturday-may-2/
CATEGORIES:DAER Nightclub
ATTACH;FMTTYPE=image/jpeg:https://goodlife.miami/wp-content/uploads/2026/04/c66aab2a-b70a-4ace-aaf1-5d557b99e5b3.jpeg
END:VEVENT
BEGIN:VEVENT
DTSTART;TZID=UTC:20260502T220000
DTEND;TZID=UTC:20260503T040000
DTSTAMP:20260426T021505
CREATED:20260414T152900Z
LAST-MODIFIED:20260414T152900Z
UID:10001607-1777759200-1777780800@goodlife.miami
SUMMARY:Saturday May 2nd - Afrojack at DAER Nightclub
DESCRIPTION:Get your engines on 🌠 @afrojack is RETURNING to DAER Nightclub on Saturday\, May 2nd for Race Week 🏁 \nFor more info\, tickets and tables DM @goodlifemiami or Text 786.210.6327⁠ \nFor Tickets Visit: https://www.tixr.com/promoters/goodlifemiami
URL:https://goodlife.miami/event/saturday-may-2nd-afrojack-at-daer-nightclub/
LOCATION:DAER South Forida\, 1 Lucky Street\, Hollywood\, FL\, 33314\, United States
CATEGORIES:DAER Nightclub
ATTACH;FMTTYPE=image/jpeg:https://goodlife.miami/wp-content/uploads/2026/04/05-02-26-NC-Afrojack-Wide.jpg
ORGANIZER;CN="Sergio Goodlife":MAILTO:rsvp@goodlife.miami
END:VEVENT
BEGIN:VEVENT
DTSTART;TZID=America/New_York:20260503T120000
DTEND;TZID=America/New_York:20260503T180000
DTSTAMP:20260426T021505
CREATED:20241016T121221Z
LAST-MODIFIED:20241016T121221Z
UID:10000894-1777809600-1777831200@goodlife.miami
SUMMARY:This and Every Sunday\, Pool Party at DAER Dayclub\, inside the Hard Rock Hotel
DESCRIPTION:This and Every Sunday\, Pool Party at DAER Dayclub\, inside the Hard Rock Hotel\nOpen format sounds by Guest DJ’s every week\n \nFor More info\, VIP Table Reservations\, and Ladies Complimentary Guestlist\, Email us rsvp@goodlife.miami or contact miami promoter Sergio 786-210-6327.
URL:https://goodlife.miami/event/this-and-every-sunday-pool-party-at-daer-dayclub-inside-the-hard-rock-hotel/2026-05-03/
LOCATION:Dj Rico Sanchez Asi Viene el Sandwich
ATTACH;FMTTYPE=image/jpeg:https://goodlife.miami/wp-content/uploads/2024/10/Generic-Sundays-Goodlife.jpg
END:VEVENT
BEGIN:VEVENT
DTSTART;TZID=UTC:20260503T120000
DTEND;TZID=UTC:20260504T040000
DTSTAMP:20260426T021505
CREATED:20260317T234208Z
LAST-MODIFIED:20260317T234208Z
UID:10001603-1777809600-1777867200@goodlife.miami
SUMMARY:Sunday May 3rd- Race week YDG at DAER Dayclub
DESCRIPTION:Check this out 🫨 @itsydg RETURNS on Sunday\, May 3rd for Bass Brunch this Race Week 🏁 \nFor more info\, tickets and tables DM @goodlifemiami or Text 786.210.6327 \nFor Tickets Visit: https://www.tixr.com/promoters/goodlifemiami
URL:https://goodlife.miami/event/sunday-may-3rd-race-week-ydg-at-daer-dayclub/
LOCATION:DAER South Forida\, 1 Lucky Street\, Hollywood\, FL\, 33314\, United States
CATEGORIES:DAER Dayclub
ATTACH;FMTTYPE=image/jpeg:https://goodlife.miami/wp-content/uploads/2026/03/05-03-26-TP-YDG-Race-Week-Dayclub-Wide.jpg
ORGANIZER;CN="Sergio Goodlife":MAILTO:rsvp@goodlife.miami
END:VEVENT
END:VCALENDAR