BEGIN:VCALENDAR
VERSION:2.0
PRODID:-//Good Life Miami - ECPv6.11.0//NONSGML v1.0//EN
CALSCALE:GREGORIAN
METHOD:PUBLISH
X-WR-CALNAME:Good Life Miami
X-ORIGINAL-URL:https://goodlife.miami
X-WR-CALDESC:Events for Good Life Miami
REFRESH-INTERVAL;VALUE=DURATION:PT1H
X-Robots-Tag:noindex
X-PUBLISHED-TTL:PT1H
BEGIN:VTIMEZONE
TZID:America/New_York
BEGIN:DAYLIGHT
TZOFFSETFROM:-0500
TZOFFSETTO:-0400
TZNAME:EDT
DTSTART:20240310T070000
END:DAYLIGHT
BEGIN:STANDARD
TZOFFSETFROM:-0400
TZOFFSETTO:-0500
TZNAME:EST
DTSTART:20241103T060000
END:STANDARD
BEGIN:DAYLIGHT
TZOFFSETFROM:-0500
TZOFFSETTO:-0400
TZNAME:EDT
DTSTART:20250309T070000
END:DAYLIGHT
BEGIN:STANDARD
TZOFFSETFROM:-0400
TZOFFSETTO:-0500
TZNAME:EST
DTSTART:20251102T060000
END:STANDARD
END:VTIMEZONE
BEGIN:VTIMEZONE
TZID:UTC
BEGIN:STANDARD
TZOFFSETFROM:+0000
TZOFFSETTO:+0000
TZNAME:UTC
DTSTART:20250101T000000
END:STANDARD
END:VTIMEZONE
BEGIN:VEVENT
DTSTART;TZID=America/New_York:20241220T143000
DTEND;TZID=America/New_York:20241220T143000
DTSTAMP:20260425T152705
CREATED:20241220T104450Z
LAST-MODIFIED:20241220T104450Z
UID:10001172-1734705000-1734705000@goodlife.miami
SUMMARY:Models and Media Yacht Party at Jericho Yacht Charters on Dec 20
DESCRIPTION:Join the Models & Media Yacht Party hosted by McGriddy Modeling Agency for an exclusive evening of glamour\, networking\, and unforgettable waterfront vibes. Don’t miss this premier event! \nFor More info\, VIP Table Reservations\, and Ladies Complimentary Guestlist\, Email us rsvp@goodlife.miami or contact miami promoter Sergio 786-210-6327. \n  \n \n 
URL:https://goodlife.miami/event/models-and-media-yacht-party-at-jericho-yacht-charters-on-dec-20/
LOCATION:jerico\, Jerico Yacht Charters\, North Miami Beach\, United States
CATEGORIES:Events,Miami
ATTACH;FMTTYPE=image/jpeg:https://goodlife.miami/wp-content/uploads/2024/12/WhatsApp-Image-2024-12-20-at-21.40.56.jpeg
END:VEVENT
BEGIN:VEVENT
DTSTART;TZID=America/New_York:20250130T200000
DTEND;TZID=America/New_York:20250131T020000
DTSTAMP:20260425T152705
CREATED:20250120T164100Z
LAST-MODIFIED:20250120T164100Z
UID:10001177-1738267200-1738288800@goodlife.miami
SUMMARY:Tumba Calle Official Urban Party
DESCRIPTION:Tumba Calle Official Urban Party \n \n\n\n\n\n \n\n\n\n\n\n\n\n\n\n\nTUMBA CALLE: THE OFFICIAL URBAN PARTY IS HERE\nThis Thursday\, January 30th\, the iconic Toreros Bonfire\, right next to Marlyn’s Stadium\, will transform into a powerhouse of rhythm\, energy\, and pure talent. \nCLICK HERE FOR TICKETS\nVIP Table Reservations\, and Ladies Complimentary Guest list \nEmail us rsvp@goodlife.miami or Contact Sergio 786-210-6327 \n  \nWHAT TO EXPECT \nA lineup of the hottest artists delivering non-stop urban beats \nElectrifying vibes and an unforgettable atmosphere \nExpect an unforgettable fusion of Latin beats as talented artists on the rise hit the stage. \nLocal performers and special guests from Chicago and Texas will light up the night with their biggest hits\, bringing the stage to life like never before. \nThe official Urban Party that everyone’s talking about \nDON’T WAIT Tickets are moving fast—secure yours now and be part of the most talked-about event of the year. \nTumba Calle 5 is more than a party—it’s a movement. Bring your squad\, your energy\, and your love for urban music. Let’s make history together. \n  \n\n\n\n\n\n\nDE LA COSTA PERFORMING LIVE\n  \n \nTUMBA CALLE LINEUP:\n  \nTANISHKA PR\nJPLUS\nNOCE\nSTRIPE\nELICAR FALCON\nLOUI LA ESTRELLA\nVENOM\nCACIQUE & COLUSA\n_____________________________________________________ \n  \nGET YOUR TUMBA CALLE 5 TICKETS NOW\nBuy your tickets in advance through the link of your favorite artist and take advantage of a 25% discount on presale. Don’t miss out on this exclusive offer! \n  \nCLICK HERE FOR TICKETS\nVIP Table Reservations\, and Ladies Complimentary Guest list \nEmail us rsvp@goodlife.miami or Contact Sergio 786-210-6327 \n  \nTUMBA CALLE OFFICIAL PARTY DESCRIPTION:\nExplosive performances \nHappy Hour from 8:00 PM to 10:00 PM \nBottles for $99 and 2×1 on drinks. \nThe show starts at 10:00 PM \nNext-level sound & lights \nA crowd that knows how to party! \n  \nBrought to you On The Beat Boy Production \, a Miami based Productions company and official organizer of Tumba Calle Official Urban Party. \n 
URL:https://goodlife.miami/event/tumba-calle-official-urban-party/
LOCATION:Toreros Bonfire Restaurant and Lounge Miami\, 1704 Northwest 7th Street\, Miami\, FL\, 33125\, United States
CATEGORIES:Miami
ATTACH;FMTTYPE=image/jpeg:https://goodlife.miami/wp-content/uploads/2025/01/PHOTO-2025-01-20-15-01-12.jpg
END:VEVENT
BEGIN:VEVENT
DTSTART;TZID=America/New_York:20250301T200000
DTEND;TZID=America/New_York:20250301T233000
DTSTAMP:20260425T152705
CREATED:20250228T163315Z
LAST-MODIFIED:20250228T163315Z
UID:10001199-1740859200-1740871800@goodlife.miami
SUMMARY:Get ready for Rhythm & Soul curated by Jarova
DESCRIPTION:RHYTHM & SOUL – CURATED BY JAROVA \nThis Saturday\, March 1st | 8 PM \nOutlook Record Company & Sensations bring you a night of pure Rhythm & Soul at Unseen Creatures—a showcase & jam session curated by recording artist Jarova. \n\n8 PM – Jam Session for musicians \n9 PM – Miami’s top local artists take the stage\, blending genres with surprises in store \nLive canvas painting. Local vendors. Raw energy. Pure inspiration. \nUnseen Creatures \nDon’t just hear the music—feel it.
URL:https://goodlife.miami/event/get-ready-for-rhythm-soul-curated-by-jarova/
CATEGORIES:Miami
ATTACH;FMTTYPE=image/jpeg:https://goodlife.miami/wp-content/uploads/2025/02/adb178db-7c32-400f-a0b2-c3d8ef6b8cab.jpeg
END:VEVENT
BEGIN:VEVENT
DTSTART;TZID=America/New_York:20250524T090000
DTEND;TZID=America/New_York:20250524T213000
DTSTAMP:20260425T152705
CREATED:20250316T234023Z
LAST-MODIFIED:20250316T234023Z
UID:10000717-1748077200-1748122200@goodlife.miami
SUMMARY:Miami International Fitness Expo
DESCRIPTION:May 24th 2025\, we kick off Memorial Day Weekend with THE MIAMI INTERNATIONAL FITNESS EXPO\, hosting its 11th year at a NEW LOCATION\, the Miami-Dade County Fair & Exposition. 77K SQ FT OF FIT FUN\, The Miami International Fitness Expo (M.I.F.E) FEATURES MULTIPLE SPORTING EVENTS & 60 PLUS VENDORS UNDER ONE ROOF. With some of the biggest names in the fitness industry & the support of the IFBB\, NPC\, GRID\, UFCL\, USAW\, 100% RAW & UNAA plus local Ninja\, Boxing\, Calisthenics\, Jiu Jitsu & Fitness gyms; the M.I.F.E hosts an amazing set of fitness events\, in the nation’s tropical melting pot; MIAMI.\nClick here to buy tickets
URL:https://goodlife.miami/event/miami-international-fitness-expo/
LOCATION:Miami-Dade County Fair & Exposition\, 10901 SW 24th St\, Miami\, FL\, 33165\, United States
CATEGORIES:Events,Miami
ATTACH;FMTTYPE=image/png:https://goodlife.miami/wp-content/uploads/2025/03/MIFE2025MAINFLYER-scaled.png
ORGANIZER;CN="Fit Life Productions":MAILTO:miamimusclebeachpro@gmail.com
END:VEVENT
BEGIN:VEVENT
DTSTART;TZID=America/New_York:20250726T160000
DTEND;TZID=America/New_York:20250726T190000
DTSTAMP:20260425T152705
CREATED:20250708T184702Z
LAST-MODIFIED:20250708T184702Z
UID:10001488-1753545600-1753556400@goodlife.miami
SUMMARY:DRIP GLOW Miami Edition Model Casting Party
DESCRIPTION:GLOW MIAMI 2025 — THE ULTIMATE BLACKLIGHT FASHION EXPERIENCE IS HERE\nGet ready\, because the lights are going off and the energy is turning all the way up. As we step into the electric world of GLOW MIAMI\, everything you thought you knew about fashion shows is about to be transformed. DRIP GLOW Model Casting Party. \nIf you are a designer\, sponsor\, media professionals\, and vendors\, then you should definitely be a part of this event. To join the movement\, text 305.519.1001 and get involved in this groundbreaking production at the WYN Group Miami. \n \nVirtual Casting is NOW OPENModels\, this is your moment to shine. Whether you’re a seasoned pro or ready for your breakout moment\, this is your chance to get discovered by top designers in the most visually striking show of the season. \nMODEL CASTING DAY DETAILS:Come prepared in a white bikini\, heels\, and bring your comp card because we will be selecting models on the spot. First impressions are everything\, and this is your runway to greatness. \nThe DRIP GLOW Model Casting Party hosted by the dazzling Miss Amber Fields and powered by the creative force \, Drip Miami 2025. This blacklight-fueled event is brought to life by DRIP founder Fernello\, alongside an incredible lineup of visionary designers. \n\nRe-cap of DRIP 2025 Swim Week in Miami\n  \n \n  \nBut that’s not all! The DRIP GLOW Model Casting Party is more than just a show. It is a full-on neon dream world where live art\, fashion\, and music collide: \n\n\nLive Body Art and Neon Paint \n\n\nBlacklight Runway Spectacle \n\n\nLive Music by DJ Isaac Icecold \n\n\nPresented by Goodlife Miami and GLM Magazine \n\n  \n\n\nIf you are a designer\, sponsor\, media professionals\, and vendors\, then you should definitely be a part of this event. To join the movement\, text 305.519.1001 and get involved in this groundbreaking production at the WYN Group Miami. \nThe glow is calling. Let your style illuminate the night at GLOW MIAMI 2025. \n\nCheck out what our friend Visuals by Lee was up to during Miami Swim Week in May 2025. \n \nTap Into South Florida’s Hottest Scene\nNow is the perfect time to amplify your reach. By partnering with Goodlife Miami and our elite network of premium collaborators\, you’ll gain direct access to one of the most vibrant\, event-focused communities in Miami and Broward. Whether you’re launching\, expanding\, or rebranding — we’re here to help you connect\, grow\, and thrive. Let’s elevate your brand together — Click Here & Start Today.
URL:https://goodlife.miami/event/drip-glow-miami-edition-model-casting-party/
LOCATION:Bikini13310
CATEGORIES:Miami,Wynwood
ATTACH;FMTTYPE=image/jpeg:https://goodlife.miami/wp-content/uploads/2025/07/fyer5-scaled-1.jpeg
END:VEVENT
BEGIN:VEVENT
DTSTART;TZID=UTC:20251031T230000
DTEND;TZID=UTC:20251101T050000
DTSTAMP:20260425T152705
CREATED:20250930T221310Z
LAST-MODIFIED:20250930T221310Z
UID:10001559-1761951600-1761973200@goodlife.miami
SUMMARY:Friday October 31st - Joel Corry at DAER Night Club
DESCRIPTION:Get your best costume ready! 😈 @joelcorry is returning to DAER Nightclub on Halloween\, Friday\, October 31st\, for a massive party featuring a $10\,000 costume contest in cash & prizes! Don’t miss this spooky event. 💰 \nFor more info\, and tables DM @goodlifemiami or Text 786.210.6327. \nFor Tickets Visit: https://www.tixr.com/promoters/goodlifemiami
URL:https://goodlife.miami/event/friday-october-31st-joel-corry-at-daer-night-club/
LOCATION:DAER South Forida\, 1 Lucky Street\, Hollywood\, FL\, 33314\, United States
CATEGORIES:DAER Nightclub,Hard Rock Hotel,Miami,nightclub
ATTACH;FMTTYPE=image/jpeg:https://goodlife.miami/wp-content/uploads/2025/09/10-31-25-NC-Joel-Corry-Wide.jpg
ORGANIZER;CN="Sergio Goodlife":MAILTO:rsvp@goodlife.miami
END:VEVENT
BEGIN:VEVENT
DTSTART;TZID=UTC:20251122T120000
DTEND;TZID=UTC:20251123T050000
DTSTAMP:20260425T152705
CREATED:20250930T220559Z
LAST-MODIFIED:20250930T221342Z
UID:10001558-1763812800-1763874000@goodlife.miami
SUMMARY:Saturday November 22nd - Afrojack at DAER Day Club
DESCRIPTION:This is our time to party w/ @afrojack 🎉 as he is BACK at DAER Dayclub on Saturday\, November 22nd 🔥 \nFor more info\, and tables DM @goodlifemiami or Text 786.210.6327. \nFor Tickets Visit: https://www.tixr.com/promoters/goodlifemiami
URL:https://goodlife.miami/event/saturday-november-22th-afrojack-at-daer-day-club/
LOCATION:DAER South Forida\, 1 Lucky Street\, Hollywood\, FL\, 33314\, United States
CATEGORIES:DAER Dayclub,Hard Rock Hotel,Miami
ATTACH;FMTTYPE=image/jpeg:https://goodlife.miami/wp-content/uploads/2025/09/11-22-25-DC-Afrojack-Wide.jpg
ORGANIZER;CN="Sergio Goodlife":MAILTO:rsvp@goodlife.miami
END:VEVENT
END:VCALENDAR