BEGIN:VCALENDAR
VERSION:2.0
PRODID:-//Good Life Miami - ECPv6.11.0//NONSGML v1.0//EN
CALSCALE:GREGORIAN
METHOD:PUBLISH
X-ORIGINAL-URL:https://goodlife.miami
X-WR-CALDESC:Events for Good Life Miami
REFRESH-INTERVAL;VALUE=DURATION:PT1H
X-Robots-Tag:noindex
X-PUBLISHED-TTL:PT1H
BEGIN:VTIMEZONE
TZID:UTC
BEGIN:STANDARD
TZOFFSETFROM:+0000
TZOFFSETTO:+0000
TZNAME:UTC
DTSTART:20260101T000000
END:STANDARD
END:VTIMEZONE
BEGIN:VEVENT
DTSTART;TZID=UTC:20260425T093000
DTEND;TZID=UTC:20260425T163000
DTSTAMP:20260425T014236
CREATED:20260424T150709Z
LAST-MODIFIED:20260424T190923Z
UID:10001614-1777109400-1777134600@goodlife.miami
SUMMARY:BOXR Fest - Saturday April 25th | DAER Dayclub
DESCRIPTION:  \nTickets and More Information Email: Sergio@Goodlifemiami.com or Txt 786-210-6327 //\nDAER Events – For Tickets Visit: https://www.tixr.com/promoters/goodlifemiami \n 
URL:https://goodlife.miami/event/boxr-fest-daer-dayclub/
LOCATION:DAER South Forida\, 1 Lucky Street\, Hollywood\, FL\, 33314\, United States
CATEGORIES:DAER Dayclub
ATTACH;FMTTYPE=image/jpeg:https://goodlife.miami/wp-content/uploads/2026/04/f8fc979f-4170-4d94-952c-76e323139407.jpg
ORGANIZER;CN="Sergio Goodlife":MAILTO:rsvp@goodlife.miami
END:VEVENT
END:VCALENDAR