BEGIN:VCALENDAR
VERSION:2.0
PRODID:-//Good Life Miami - ECPv6.11.0//NONSGML v1.0//EN
CALSCALE:GREGORIAN
METHOD:PUBLISH
X-WR-CALNAME:Good Life Miami
X-ORIGINAL-URL:https://goodlife.miami
X-WR-CALDESC:Events for Good Life Miami
REFRESH-INTERVAL;VALUE=DURATION:PT1H
X-Robots-Tag:noindex
X-PUBLISHED-TTL:PT1H
BEGIN:VTIMEZONE
TZID:America/New_York
BEGIN:DAYLIGHT
TZOFFSETFROM:-0500
TZOFFSETTO:-0400
TZNAME:EDT
DTSTART:20250309T070000
END:DAYLIGHT
BEGIN:STANDARD
TZOFFSETFROM:-0400
TZOFFSETTO:-0500
TZNAME:EST
DTSTART:20251102T060000
END:STANDARD
END:VTIMEZONE
BEGIN:VEVENT
DTSTART;TZID=America/New_York:20250315T120000
DTEND;TZID=America/New_York:20250315T183000
DTSTAMP:20260420T223747
CREATED:20250221T065745Z
LAST-MODIFIED:20250221T065745Z
UID:10001193-1742040000-1742063400@goodlife.miami
SUMMARY:Illenium at Daer Dayclub on March 15
DESCRIPTION:Feeling the heat ‍ as @illenium RETURNS to DAER Dayclub for Spring Break on Saturday\, March 15th ️ \nFor More info\, VIP Table Reservations\, and Ladies Complimentary Guestlist\, Email us rsvp@goodlife.miami or contact miami promoter Sergio 786-210-6327. \nFor Tickets You May Use Promocode “Goodlifemiami” for a Discounted rate at www.Hardrocknightlife.com
URL:https://goodlife.miami/event/illenium-at-daer-dayclub-on-march-15/
LOCATION:Dj Rico Sanchez Asi Viene el Sandwich
CATEGORIES:DAER Dayclub
ATTACH;FMTTYPE=image/jpeg:https://goodlife.miami/wp-content/uploads/2025/02/WhatsApp-Image-2025-02-19-at-11.59.28-PM-5.jpeg
END:VEVENT
END:VCALENDAR