BEGIN:VCALENDAR
VERSION:2.0
PRODID:-//Good Life Miami - ECPv6.11.0//NONSGML v1.0//EN
CALSCALE:GREGORIAN
METHOD:PUBLISH
X-WR-CALNAME:Good Life Miami
X-ORIGINAL-URL:https://goodlife.miami
X-WR-CALDESC:Events for Good Life Miami
REFRESH-INTERVAL;VALUE=DURATION:PT1H
X-Robots-Tag:noindex
X-PUBLISHED-TTL:PT1H
BEGIN:VTIMEZONE
TZID:America/New_York
BEGIN:DAYLIGHT
TZOFFSETFROM:-0500
TZOFFSETTO:-0400
TZNAME:EDT
DTSTART:20240310T070000
END:DAYLIGHT
BEGIN:STANDARD
TZOFFSETFROM:-0400
TZOFFSETTO:-0500
TZNAME:EST
DTSTART:20241103T060000
END:STANDARD
END:VTIMEZONE
BEGIN:VEVENT
DTSTART;TZID=America/New_York:20240531T220000
DTEND;TZID=America/New_York:20240531T220000
DTSTAMP:20260426T004633
CREATED:20240520T124740Z
LAST-MODIFIED:20240520T124740Z
UID:10000765-1717192800-1717192800@goodlife.miami
SUMMARY:Daer Nightclub DJ Pauly D
DESCRIPTION:For More Information\, Guestlist fo Ladies\, and VIP Table Reservations contact Sergio 786-210-6327. Use Promocode “Goodlifemiami” for Discounted tickets | rsvp@goodlife.miami
URL:https://goodlife.miami/event/daer-nightclub-pauly-d/
CATEGORIES:Hollywood,nightclub
ATTACH;FMTTYPE=image/jpeg:https://goodlife.miami/wp-content/uploads/2024/05/WhatsApp-Image-2024-05-20-at-23.21.59.jpeg
END:VEVENT
BEGIN:VEVENT
DTSTART;TZID=America/New_York:20240601T080000
DTEND;TZID=America/New_York:20240601T170000
DTSTAMP:20260426T004633
CREATED:20240416T113035Z
LAST-MODIFIED:20240416T113035Z
UID:10000760-1717228800-1717261200@goodlife.miami
SUMMARY:Miami Muscle Beach IFBB Professional League Show
DESCRIPTION:  \n  \nMark your calendars for the ultimate fitness extravaganza! Join us at the 2024 Miami International Fitness Expo on Saturday\, June 1st\, from 9:00 AM to 9:30 PM. Prepare to be inspired\, motivated\, and empowered as you explore the latest trends\, products\, and workouts in the world of fitness. \nClick here to buy tickets: https://events.com/r/en_US/tickets/2024-miami-international-fitness-expo-miami-june-914743/affiliate/GOODLIFEMIA
URL:https://goodlife.miami/event/miami-muscle-beach-ifbb-professional-league-show/2024-06-01/1/
CATEGORIES:Miami,musclebeach,Special Event
ATTACH;FMTTYPE=image/jpeg:https://goodlife.miami/wp-content/uploads/2024/04/WhatsApp-Image-2024-04-16-at-22.25.36.jpeg
END:VEVENT
BEGIN:VEVENT
DTSTART;TZID=America/New_York:20240601T090000
DTEND;TZID=America/New_York:20240601T213000
DTSTAMP:20260426T004633
CREATED:20240416T113035Z
LAST-MODIFIED:20240416T113035Z
UID:10000761-1717232400-1717277400@goodlife.miami
SUMMARY:Miami Muscle Beach IFBB Professional League Show
DESCRIPTION:  \n  \nMark your calendars for the ultimate fitness extravaganza! Join us at the 2024 Miami International Fitness Expo on Saturday\, June 1st\, from 9:00 AM to 9:30 PM. Prepare to be inspired\, motivated\, and empowered as you explore the latest trends\, products\, and workouts in the world of fitness. \nClick here to buy tickets: https://events.com/r/en_US/tickets/2024-miami-international-fitness-expo-miami-june-914743/affiliate/GOODLIFEMIA
URL:https://goodlife.miami/event/miami-muscle-beach-ifbb-professional-league-show/2024-06-01/2/
CATEGORIES:Miami,musclebeach,Special Event
ATTACH;FMTTYPE=image/jpeg:https://goodlife.miami/wp-content/uploads/2024/04/WhatsApp-Image-2024-04-16-at-22.25.36.jpeg
END:VEVENT
BEGIN:VEVENT
DTSTART;TZID=America/New_York:20240602T120000
DTEND;TZID=America/New_York:20240602T120000
DTSTAMP:20260426T004633
CREATED:20240520T125148Z
LAST-MODIFIED:20240520T125148Z
UID:10000766-1717329600-1717329600@goodlife.miami
SUMMARY:Daer Dayclub Bryant Myers
DESCRIPTION:For More Information\, Guestlist fo Ladies\, and VIP Table Reservations contact Sergio 786-210-6327. Use Promocode “Goodlifemiami” for Discounted tickets | rsvp@goodlife.miami
URL:https://goodlife.miami/event/daer-dayclub-bryant-myers/
CATEGORIES:Hollywood
ATTACH;FMTTYPE=image/jpeg:https://goodlife.miami/wp-content/uploads/2024/05/WhatsApp-Image-2024-05-20-at-23.23.26.jpeg
END:VEVENT
BEGIN:VEVENT
DTSTART;TZID=America/New_York:20240609T000000
DTEND;TZID=America/New_York:20240609T000000
DTSTAMP:20260426T004633
CREATED:20240425T104144Z
LAST-MODIFIED:20240425T104144Z
UID:10000773-1717891200-1717891200@goodlife.miami
SUMMARY:Yung Dan Performing live in Miami
DESCRIPTION:For More Information\, Guestlist fo Ladies\, and VIP Table Reservations contact Sergio 786-210-6327. Use Promocode “Goodlifemiami” for Discounted tickets | rsvp@goodlife.miami
URL:https://goodlife.miami/event/blue-martini-brickell/
CATEGORIES:Hollywood
ATTACH;FMTTYPE=image/jpeg:https://goodlife.miami/wp-content/uploads/2024/04/WhatsApp-Image-2024-04-25-at-20.42.24.jpeg
END:VEVENT
END:VCALENDAR